BEGIN:VCALENDAR
VERSION:2.0
PRODID:-//wp-events-plugin.com//7.2.3.1//EN
TZID:America/Los_Angeles
X-WR-TIMEZONE:America/Los_Angeles
BEGIN:VEVENT
UID:35@posts.marindentalsociety.org
DTSTART;TZID=America/Los_Angeles:20220826T170000
DTEND;TZID=America/Los_Angeles:20220826T190000
DTSTAMP:20220824T080005Z
URL:https://posts.marindentalsociety.org/events/mcds-engagement-event-happ
 y-hour-2/
SUMMARY:MCDS Engagement Event / Happy Hour
DESCRIPTION:Engagement Event / Happy Hour returns!\nThe first event was so 
 much fun\, we decided to do it again!\n\n\n\nWhen: Friday\, August 26th\nT
 ime: 5:00-7:00pm\nLocation: The Junction\, Mill Valley (back patio)\n\nJoi
 n colleagues\, new members\, recent grads\, students\, prospective members
  and prospective employees - this is a meet + greet designed to get people
  out\, talking and engaging\; an opportunity to share your needs and get o
 thers involved! Learn about TDIC and other member benefits!\n\nSpace is li
 mited to 30 guests. Reserve your spot today! Free thanks to CDA and TDIC!\
 n
ATTACH;FMTTYPE=image/jpeg:https://i0.wp.com/posts.marindentalsociety.org/w
 p-content/uploads/2022/07/8.26-Engagement-Meeting-1.jpg?fit=2160%2C2160&ss
 l=1
CATEGORIES:General
END:VEVENT
BEGIN:VTIMEZONE
TZID:America/Los_Angeles
X-LIC-LOCATION:America/Los_Angeles
BEGIN:DAYLIGHT
DTSTART:20220313T030000
TZOFFSETFROM:-0800
TZOFFSETTO:-0700
TZNAME:PDT
END:DAYLIGHT
END:VTIMEZONE
END:VCALENDAR