BEGIN:VCALENDAR
VERSION:2.0
PRODID:-//wp-events-plugin.com//7.2.3.1//EN
TZID:America/Los_Angeles
X-WR-TIMEZONE:America/Los_Angeles
BEGIN:VEVENT
UID:74@posts.marindentalsociety.org
DTSTART;TZID=America/Los_Angeles:20230623T173000
DTEND;TZID=America/Los_Angeles:20230623T193000
DTSTAMP:20230623T061517Z
URL:https://posts.marindentalsociety.org/events/mcds-engagement-event-happ
 y-hour-for-all/
SUMMARY:Happy Hour for All - MCDS Engagement Event
DESCRIPTION:Engagement Event / Happy Hour this month!\n\n\n\n\n\nWhen: Frid
 ay\, June 23rd\nTime: 5:30 - 7:30pm\nLocation: Tam Commons Taproom + Kitch
 en - Upstairs lounge (separate entrance at left of main door)\n\nJoin coll
 eagues\, early career dentists\, new members\, recent grads\, students\, p
 rospective members &amp\; prospective employees - this is a meet + greet d
 esigned to get people out\, talking and engaging\; an opportunity to get t
 o know each other\, share your needs and get others involved! Learn about 
 ADA/CDA/TDIC and other member benefits!\n\nMore details to follow...\n\nRe
 serve your spot today! Food and drink included. Swag and prizes! This even
 t is free\, courtesy of ADA/CDA/TDIC!\n
ATTACH;FMTTYPE=image/jpeg:https://i0.wp.com/posts.marindentalsociety.org/w
 p-content/uploads/2023/05/6.23-Engagement-Meeting.png?fit=2160%2C2160&ssl=
 1
CATEGORIES:General
LOCATION:Tam Commons Taproom + Kitchen\, 1300 4th St. \, San Rafael\, CA\, 
 United States
X-APPLE-STRUCTURED-LOCATION;VALUE=URI;X-ADDRESS=1300 4th St. \, San Rafael\
 , CA\, United States;X-APPLE-RADIUS=100;X-TITLE=Tam Commons Taproom + Kitc
 hen:geo:0,0
END:VEVENT
BEGIN:VTIMEZONE
TZID:America/Los_Angeles
X-LIC-LOCATION:America/Los_Angeles
BEGIN:DAYLIGHT
DTSTART:20230312T030000
TZOFFSETFROM:-0800
TZOFFSETTO:-0700
TZNAME:PDT
END:DAYLIGHT
END:VTIMEZONE
END:VCALENDAR