BEGIN:VCALENDAR
VERSION:2.0
PRODID:-//wp-events-plugin.com//7.2.3.1//EN
TZID:America/Los_Angeles
X-WR-TIMEZONE:America/Los_Angeles
BEGIN:VEVENT
UID:86@posts.marindentalsociety.org
DTSTART;TZID=America/Los_Angeles:20230825T180000
DTEND;TZID=America/Los_Angeles:20230825T203000
DTSTAMP:20230826T033949Z
URL:https://posts.marindentalsociety.org/events/mcds-engagement-event-happ
 y-hour-headshots/
SUMMARY:MCDS Engagement Event: Happy Hour + Headshots
DESCRIPTION:\n\n\n\nWhen: Friday\, August 25th\nTime: 6:00 - 8:30pm\nLocati
 on: BOCA Pizzeria\, 1544 Redwood Hwy\, Corte Madera\n\nJoin MCDS for an ex
 clusive Happy Hour + Head Shots event! Members that attend will receive a 
 professional headshot by our onsite photographer! Don't miss your chance t
 o upgrade your professional profile while networking with other dentists. 
 Not a member yet? No worries! Come anyway for a small fee + get into the m
 ix. Join us.\n\nEvent is designed for the dental community at large - curr
 ent members to meet + greet new members\, recent grads\, students\, prospe
 ctive members and prospective employees - to get people out\, talking and 
 engaging\; an opportunity to share your story! Learn about ADA\, CDA\, TDI
 C and other member benefits!\n\nMCDS Dentist Members: No cost for photo se
 ssion\; no cost for happy hour\n\nStaff of MCDS Dentist Members: $50 for p
 hoto session\; no cost for happy hour\n\nNon-members + Staff: $75 for phot
 o session\; no cost for happy hour\n\nALL: No cost if only attending happy
  hour\n\n\nReserve your spot today!\n
ATTACH;FMTTYPE=image/jpeg:https://i0.wp.com/posts.marindentalsociety.org/w
 p-content/uploads/2023/08/HHHeadshots_Flyer_2023_08_25.png?fit=2898%2C3750
 &ssl=1
CATEGORIES:General
LOCATION:Boca Pizzeria\, 1544 Redwood Hwy\, Corte Madera\, United States
X-APPLE-STRUCTURED-LOCATION;VALUE=URI;X-ADDRESS=1544 Redwood Hwy\, Corte Ma
 dera\, United States;X-APPLE-RADIUS=100;X-TITLE=Boca Pizzeria:geo:0,0
END:VEVENT
BEGIN:VTIMEZONE
TZID:America/Los_Angeles
X-LIC-LOCATION:America/Los_Angeles
BEGIN:DAYLIGHT
DTSTART:20230312T030000
TZOFFSETFROM:-0800
TZOFFSETTO:-0700
TZNAME:PDT
END:DAYLIGHT
END:VTIMEZONE
END:VCALENDAR