BEGIN:VCALENDAR
VERSION:2.0
PRODID:-//wp-events-plugin.com//7.2.3.1//EN
TZID:America/Los_Angeles
X-WR-TIMEZONE:America/Los_Angeles
BEGIN:VEVENT
UID:34@posts.marindentalsociety.org
DTSTART;TZID=America/Los_Angeles:20220617T160000
DTEND;TZID=America/Los_Angeles:20220617T180000
DTSTAMP:20220610T235011Z
URL:https://posts.marindentalsociety.org/events/mcds-engagement-event-happ
 y-hour/
SUMMARY:MCDS Engagement Event / Happy Hour
DESCRIPTION:Engagement Event / Happy Hour next week!\n\n\n\n\nWhen: Friday\
 , June 17th\nTime: 4:00-6:00pm\nLocation: Fieldwork Brewing\, Corte Madera
 \n\nJoin colleagues\, new members\, recent grads\, students\, prospective 
 members and prospective employees - this is a meet + greet designed to get
  people out\, talking and engaging\; an opportunity to share your needs an
 d get others involved! Learn about TDIC and other member benefits!\n\nSpac
 e is limited to 30 guests. Reserve your spot today! Free!\n
ATTACH;FMTTYPE=image/jpeg:https://i0.wp.com/posts.marindentalsociety.org/w
 p-content/uploads/2022/05/6.17-Engagement-Meeting_final.png?fit=2160%2C216
 0&ssl=1
CATEGORIES:General
LOCATION:Fieldwork Brewing Company\, 107 Corte Madera Town Center\, Corte M
 adera\, CA\, 94925\, United States
X-APPLE-STRUCTURED-LOCATION;VALUE=URI;X-ADDRESS=107 Corte Madera Town Cente
 r\, Corte Madera\, CA\, 94925\, United States;X-APPLE-RADIUS=100;X-TITLE=F
 ieldwork Brewing Company:geo:0,0
END:VEVENT
BEGIN:VTIMEZONE
TZID:America/Los_Angeles
X-LIC-LOCATION:America/Los_Angeles
BEGIN:DAYLIGHT
DTSTART:20220313T030000
TZOFFSETFROM:-0800
TZOFFSETTO:-0700
TZNAME:PDT
END:DAYLIGHT
END:VTIMEZONE
END:VCALENDAR