BEGIN:VCALENDAR
VERSION:2.0
PRODID:-//wp-events-plugin.com//7.2.3.1//EN
TZID:America/Los_Angeles
X-WR-TIMEZONE:America/Los_Angeles
BEGIN:VEVENT
UID:58@posts.marindentalsociety.org
DTSTART;TZID=America/Los_Angeles:20230313T180000
DTEND;TZID=America/Los_Angeles:20230313T190000
DTSTAMP:20230121T052203Z
URL:https://posts.marindentalsociety.org/events/mcds-march-2023-board-meet
 ing-virtual/
SUMMARY:MCDS March 2023 Board Meeting - Virtual
DESCRIPTION:
END:VEVENT
BEGIN:VTIMEZONE
TZID:America/Los_Angeles
X-LIC-LOCATION:America/Los_Angeles
BEGIN:DAYLIGHT
DTSTART:20230312T030000
TZOFFSETFROM:-0800
TZOFFSETTO:-0700
TZNAME:PDT
END:DAYLIGHT
END:VTIMEZONE
END:VCALENDAR