BEGIN:VCALENDAR
VERSION:2.0
PRODID:-//wp-events-plugin.com//7.2.3.1//EN
TZID:America/Los_Angeles
X-WR-TIMEZONE:America/Los_Angeles
BEGIN:VEVENT
UID:61@posts.marindentalsociety.org
DTSTART;TZID=America/Los_Angeles:20231113T180000
DTEND;TZID=America/Los_Angeles:20231113T190000
DTSTAMP:20230121T052342Z
URL:https://posts.marindentalsociety.org/events/mcds-nov-2023-board-meetin
 g-virtual/
SUMMARY:MCDS Nov 2023 Board Meeting - Virtual
DESCRIPTION:
END:VEVENT
BEGIN:VTIMEZONE
TZID:America/Los_Angeles
X-LIC-LOCATION:America/Los_Angeles
BEGIN:STANDARD
DTSTART:20231105T010000
TZOFFSETFROM:-0700
TZOFFSETTO:-0800
TZNAME:PST
END:STANDARD
END:VTIMEZONE
END:VCALENDAR