BEGIN:VCALENDAR
VERSION:2.0
PRODID:-//wp-events-plugin.com//7.2.3.1//EN
TZID:America/Los_Angeles
X-WR-TIMEZONE:America/Los_Angeles
BEGIN:VEVENT
UID:163@posts.marindentalsociety.org
DTSTART;TZID=America/Los_Angeles:20260402T173000
DTEND;TZID=America/Los_Angeles:20260402T220000
DTSTAMP:20260331T030357Z
URL:https://posts.marindentalsociety.org/events/mcds-staff-appreciation-ev
 ent-2026/
SUMMARY:MCDS Staff Appreciation Night 2026
DESCRIPTION:Practice Leadership. Student &amp\; Dental Team Mentorship. Pro
 fessional Growth.\nJoin us for MCDS Staff Appreciation Night!\nThursday\, 
 April 2nd | 5:30 PM – 10:00 PM\nEmbassy Suites\, San Rafael in the Ballr
 oom\nCelebrate the heart of Marin dentistry! This isn't just a meeting—i
 t’s an evening dedicated to the leadership of our member dentists\, the 
 dedication of their teams\, and the future of the profession.\nJoin us as 
 we bridge the gap between today’s experts and tomorrow’s talent. Engag
 e with the College of Marin Dental Assisting students\, discover the lates
 t innovations from our vendors\, and earn 2.0 CE units—all while enjoyin
 g an engaging night of dinner\, awards\, and karaoke!\nSponsor a College o
 f Marin Student's Attendance!\n\n\n\n\n🌟 Why Attend?\n\n 	\nSupport the
  Future: Mentor the next generation by engaging with the College of Marin 
 Student Table Clinics\n\n 	\nInvest in Your Practice: Strengthen team cult
 ure and recognize the staff that makes your leadership possible\n\n 	\nSta
 y Informed: Explore Vendor Table Clinics for the latest in dental innovati
 on\n\n 	\nEarn &amp\; Enjoy: Grab 2.0 CE units\, then let loose with a liv
 e DJ and our legendary Karaoke party! Don't forget to snap some pics of yo
 u and your team during the evening!\n\n\n🎟️ Tickets &amp\; Registrati
 on\nGeneral Admission Tickets are available through March 31\, 12:00 PM. P
 rices go up after that\, so lock in now!\n\n\n💡 Team Registration Tip: 
 To ensure your entire office is recognized\, please enter the names of you
 r staff in the "Additional Registrants" field when booking!\n\n\n\n\n🕒 
 The Evening's Schedule\n\n 	\n5:30 PM: Doors Open! Vendor Table Clinics &a
 mp\; Photo Booth\n\n 	\n6:00 PM: Dinner is Served (Catered\, Buffet Style)
 \n\n 	\n6:45 PM: College of Marin Student Table Clinics\n\n 	\n8:00 PM: Re
 cognition &amp\; Awards Ceremony\n\n 	\n8:15 PM – 10:00 PM: Karaoke &amp
 \; DJ Party Kickoff! Fun provided by S-K-A Entertainment\n\n\n&nbsp\;
ATTACH;FMTTYPE=image/jpeg:https://i0.wp.com/posts.marindentalsociety.org/w
 p-content/uploads/2026/03/Appreciation-Facebook-Post-Updated_2026-03-22.pn
 g?fit=940%2C788&ssl=1
CATEGORIES:Continuing Education,General
LOCATION:Embassy Suites by Hilton\, San Rafael\, 101 McInnis Parkway\, San 
 Rafael\, CA\, 94903\, United States
X-APPLE-STRUCTURED-LOCATION;VALUE=URI;X-ADDRESS=101 McInnis Parkway\, San R
 afael\, CA\, 94903\, United States;X-APPLE-RADIUS=100;X-TITLE=Embassy Suit
 es by Hilton\, San Rafael:geo:0,0
END:VEVENT
BEGIN:VTIMEZONE
TZID:America/Los_Angeles
X-LIC-LOCATION:America/Los_Angeles
BEGIN:DAYLIGHT
DTSTART:20260308T030000
TZOFFSETFROM:-0800
TZOFFSETTO:-0700
TZNAME:PDT
END:DAYLIGHT
END:VTIMEZONE
END:VCALENDAR