BEGIN:VCALENDAR
VERSION:2.0
PRODID:-//wp-events-plugin.com//7.2.3.1//EN
TZID:America/Los_Angeles
X-WR-TIMEZONE:America/Los_Angeles
BEGIN:VEVENT
UID:24@posts.marindentalsociety.org
DTSTART:20211209T150000Z
DTEND:20211209T180000Z
DTSTAMP:20211208T090202Z
URL:https://posts.marindentalsociety.org/events/mental-health-wellness-in-
 dentistry-virtual-event/
SUMMARY:Mental Health & Wellness in Dentistry Virtual Event
DESCRIPTION:Join CDA virtually for Mental Health &amp\; Wellness in Dentist
 ry\nTo support our dentists in creating healthy environments\, CDA is host
 ing a free virtual event on Thursday\, Dec. 9\, from 3-6 p.m. PST to talk 
 openly about the struggles our dental colleagues have faced and what we ca
 n do to shift the tides of mental health and wellness back in our favor. F
 eaturing speakers who will share their own  experiences plus professional
  recommendations from dentists\, a psychologist and an attorney with expe
 rtise in mindfulness\, addiction and domestic violence\, this important ev
 ent will give you the tools to create a safe and healthy culture in your d
 ental practice\, including personal mindfulness exercises you can bring ba
 ck to your staff\, tips for talking about well-being\, and tools for recog
 nizing crisis in our friends\, family and co-workers.\n\nRegister Here&gt\
 ;&gt\;
ATTACH;FMTTYPE=image/jpeg:https://i0.wp.com/posts.marindentalsociety.org/w
 p-content/uploads/2021/12/Mental-Health-in-Dentistry.png?fit=1600%2C1600&s
 sl=1
CATEGORIES:General
END:VEVENT
END:VCALENDAR