BEGIN:VCALENDAR
VERSION:2.0
PRODID:-//wp-events-plugin.com//7.2.3.1//EN
TZID:America/Los_Angeles
X-WR-TIMEZONE:America/Los_Angeles
BEGIN:VEVENT
UID:132@posts.marindentalsociety.org
DTSTART;TZID=America/Los_Angeles:20251106T183000
DTEND;TZID=America/Los_Angeles:20251106T203000
DTSTAMP:20251105T183146Z
URL:https://posts.marindentalsociety.org/events/november-2025-bls-cpr-rene
 wal/
SUMMARY:November 2025 BLS / CPR Renewal
DESCRIPTION:&nbsp\;\n\nRegister Here for Thursday\, November 6\, 2025\n\nEa
 rn: CPR Certificate + 2 CEs\n\nYou must have a certificate that hasn't yet
  expired to take the renewal course. If your certificate has expired\, you
  will have to take an additional online course (Blended) on your own\, plu
 s attend the course and skills verification in person. Click on the link a
 bove for more details.\n\nUse code: MCDS when checking out for your $10 m
 ember discount (members and their staff). Here is the full schedule with
  a drop down menu of all locations available.
ATTACH;FMTTYPE=image/jpeg:https://i0.wp.com/posts.marindentalsociety.org/w
 p-content/uploads/2021/12/2020-bls.jpg?fit=424%2C560&ssl=1
CATEGORIES:All BLS / CPR Courses,Continuing Education
LOCATION:Marin County Dental Society - Muir Conference Room\, 175 N Redwood
  Dr Ste. 130\, San Rafael\, California\, 94903\, Marin County\, United Sta
 tes
GEO:38.023681;-122.536604
X-APPLE-STRUCTURED-LOCATION;VALUE=URI;X-ADDRESS=175 N Redwood Dr Ste. 130\,
  San Rafael\, California\, 94903\, Marin County\, United States;X-APPLE-RA
 DIUS=100;X-TITLE=Marin County Dental Society - Muir Conference Room:geo:38
 .023681,-122.536604
END:VEVENT
BEGIN:VTIMEZONE
TZID:America/Los_Angeles
X-LIC-LOCATION:America/Los_Angeles
BEGIN:STANDARD
DTSTART:20251102T010000
TZOFFSETFROM:-0700
TZOFFSETTO:-0800
TZNAME:PST
END:STANDARD
END:VTIMEZONE
END:VCALENDAR