BEGIN:VCALENDAR
VERSION:2.0
PRODID:-//wp-events-plugin.com//7.2.3.1//EN
TZID:America/Los_Angeles
X-WR-TIMEZONE:America/Los_Angeles
BEGIN:VEVENT
UID:75@posts.marindentalsociety.org
DTSTART;TZID=America/Los_Angeles:20230610T093000
DTEND;TZID=America/Los_Angeles:20230610T130000
DTSTAMP:20230606T042140Z
URL:https://posts.marindentalsociety.org/events/now-next-in-dentistry-leve
 rage-data-to-drive-your-career-and-financial-decisions/
SUMMARY:Alameda Cancelled - Now + Next in Dentistry: Leverage Data to Drive
  Your Career and Financial Decisions
DESCRIPTION:\n\n\n\n\n\n\n\n Learn and connect with your CDA and local co
 mponent leaders at Now + Next in Dentistry: Leverage Data to Drive Your Ca
 reer and Financial Decisions.  \n\n\n \nNow+Next are new and engaging i
 n-person meetups for dentists learning to navigate the early years of thei
 r careers. Join us for mini golf and drinks in Sacramento or a cold brew i
 n Alameda as we share current industry data to help guide your long-term c
 areer and financial decisions.\n\n 	Gain insight into budgeting for life a
 s an early career dentist.\n 	Discover how different types of debt impact 
 your options.\n 	Learn how to create an achievable financial plan.\n 	Disc
 uss practical plans to become a practice owner.\n\n\n\n\n\n\n\n\n\n\n\n\n\
 n\n\n\n\n\n\n\n\n\n\n\nJoin us in Sacramento\nWhere:   \nTipsy Putt\n
 630 K Street\, #120\nSacramento\, CA 95814\n\nWhen:   \nThursday\, Ju
 ne 22\n6 – 9:30 p.m.\nRegister now\n\n\n\n\n\n\n\n&nbsp\;\n\n\n\n\n\n\n\
 n\n\n\n\n\n\n
ATTACH;FMTTYPE=image/jpeg:https://i0.wp.com/posts.marindentalsociety.org/w
 p-content/uploads/2023/05/CDAP360_nplusn_june_HP-medium-graphic.jpg?fit=35
 5%2C383&ssl=1
END:VEVENT
BEGIN:VTIMEZONE
TZID:America/Los_Angeles
X-LIC-LOCATION:America/Los_Angeles
BEGIN:DAYLIGHT
DTSTART:20230312T030000
TZOFFSETFROM:-0800
TZOFFSETTO:-0700
TZNAME:PDT
END:DAYLIGHT
END:VTIMEZONE
END:VCALENDAR