BEGIN:VCALENDAR
VERSION:2.0
PRODID:-//wp-events-plugin.com//7.2.3.1//EN
TZID:America/Los_Angeles
X-WR-TIMEZONE:America/Los_Angeles
BEGIN:VEVENT
UID:146@posts.marindentalsociety.org
DTSTART;TZID=America/Los_Angeles:20251028T180000
DTEND;TZID=America/Los_Angeles:20251028T200000
DTSTAMP:20251011T011352Z
URL:https://posts.marindentalsociety.org/events/opioid-training-for-dentis
 ts-for-license-renewal/
SUMMARY:Opioid Training for Dentists for License Renewal
DESCRIPTION:Opioid Training for Dentists for License Renewal presented by S
 CCDS\nin partnership with Copper Penny Consulting\, LLC\n2 Units of CE (Ca
 tegory 1)\n\nTHIS COURSE WILL BE HELD ONLINE VIA ZOOM - THE LINK WILL BE S
 ENT 24 HOURS PRIOR TO THE EVENT\n\nPain management in dentistry is not jus
 t about filling cavities\, it's about ensuring patient comfort and safety.
  In this class\, doctors will gain the skills to identify various pain man
 agement options and regulatory requirements for opioids. They will also le
 arn to recognize signs of substance use disorders in patients and develop 
 strategies to manage vulnerable situations. Join us and become a confident
 \, compassionate provider of dental pain management!\n\nTHIS COURSE IS APP
 ROVED BY THE DENTAL BOARD OF CALIFORNIA FOR LICENSE RENEWAL\n\nCDA Member 
 Dentist ($80.00)\n6:00 pm - 8:00 pm\nOnline Via Zoom\n\nDental Staff/Auxil
 iary ($80.00)\n6:00 pm - 8:00 pm\nOnline Via Zoom\n\nNon CDA Member Dentis
 t ($230.00)\n6:00 pm - 8:00 pm\nOnline Via Zoom
ATTACH;FMTTYPE=image/jpeg:https://i0.wp.com/posts.marindentalsociety.org/w
 p-content/uploads/2025/10/Opioid-Safety-Oct-2025.png?fit=940%2C788&ssl=1
CATEGORIES:Continuing Education
END:VEVENT
BEGIN:VTIMEZONE
TZID:America/Los_Angeles
X-LIC-LOCATION:America/Los_Angeles
BEGIN:DAYLIGHT
DTSTART:20250309T030000
TZOFFSETFROM:-0800
TZOFFSETTO:-0700
TZNAME:PDT
END:DAYLIGHT
END:VTIMEZONE
END:VCALENDAR