BEGIN:VCALENDAR
VERSION:2.0
PRODID:-//wp-events-plugin.com//7.2.3.1//EN
TZID:America/Los_Angeles
X-WR-TIMEZONE:America/Los_Angeles
BEGIN:VEVENT
UID:2@posts.marindentalsociety.org
DTSTART;TZID=America/Los_Angeles:20211130T173000
DTEND;TZID=America/Los_Angeles:20211130T210000
DTSTAMP:20211117T070309Z
URL:https://posts.marindentalsociety.org/events/osha/
SUMMARY:Dinner/CE Meeting - California Dental Practice Act
DESCRIPTION:\n2.0 CEU Core.  Please register by November 28.\n\n\n\nAmy Woo
 d - Speaker Bio: As CEO of Copper Penny Consulting\, LLC and ACS Technolog
 ies\, LLC\, Amy Wood consults with businesses to address their Risk Manage
 ment and HIPAA Compliance programs\, both before and after a Data Breach. 
 She helps minimize the damage after a data breach and implements proactive
  compliance programs into existing workflows. Amy has a long history in he
 althcare\, both with patients and now behind the scenes in risk management
  and technology security. Amy has worked in healthcare for more than 20 ye
 ars. Her passion for risk management began after her own identity was comp
 romised as a result of X-rays being lost from staff errors. That passion h
 as turned into a commitment to provide an easy to understand approach to c
 omplex regulations.\n\n\n\n\n
CATEGORIES:Continuing Education
LOCATION:McInnis Park Club Restaurant\, 350 Smith Ranch Road\, San Rafael\,
  California\, 94903\, Marin County\, United States
GEO:38.021814;-122.519899
X-APPLE-STRUCTURED-LOCATION;VALUE=URI;X-ADDRESS=350 Smith Ranch Road\, San 
 Rafael\, California\, 94903\, Marin County\, United States;X-APPLE-RADIUS=
 100;X-TITLE=McInnis Park Club Restaurant:geo:38.021814,-122.519899
END:VEVENT
BEGIN:VTIMEZONE
TZID:America/Los_Angeles
X-LIC-LOCATION:America/Los_Angeles
BEGIN:STANDARD
DTSTART:20211107T010000
TZOFFSETFROM:-0700
TZOFFSETTO:-0800
TZNAME:PST
END:STANDARD
END:VTIMEZONE
END:VCALENDAR