BEGIN:VCALENDAR
VERSION:2.0
PRODID:-//wp-events-plugin.com//7.2.3.1//EN
TZID:America/Los_Angeles
X-WR-TIMEZONE:America/Los_Angeles
BEGIN:VEVENT
UID:66@posts.marindentalsociety.org
DTSTART;TZID=America/Los_Angeles:20230321T190000
DTEND;TZID=America/Los_Angeles:20230321T220000
DTSTAMP:20230320T235259Z
URL:https://posts.marindentalsociety.org/events/predictable-aesthetic-rest
 orative-dentistry/
SUMMARY:POSTPONED - Predictable Aesthetic Restorative Dentistry
DESCRIPTION:Join your Society as we welcome speaker Dr. Pescatore and Whale
 dent Coltene.\nWe will dive into a comprehensive palette of restoration to
 pics including crown\, bridge\, endo\, and pairing standard impressions an
 d digital impressions to create optimal outcomes for your patients.\nSynop
 sis of Course:\n\nThis course will deal with numerous aspects of comprehen
 sive restorative aesthetic dentistry and efficient patient care in today
 ’s dental practice.  We will discuss how to make routine dental procedu
 res such as adhesion and direct resins more predictable and efficient usin
 g the latest material technologies. Also discussed will be the indirect re
 storation protocol including preparation design for the current restorativ
 e materials and the use of impression materials vs digital technologies. I
 nsertion protocols will also be addressed to aide the clinician in develop
 ing a foolproof method to deliver high quality\, long-lasting restorations
 .\n\nUpon completion of this CE course\, the attendee will be able to:\n\n
  	Understand the current adhesive systems as compared to previous generati
 ons\n 	Understand the preparation design requirements for ceramic and zirc
 onia restorations\n 	Understand the difference between using traditional a
 nalog vs digital impression techniques\n 	Manage tissue properly to aid in
  the insertion process of indirect restorations\n 	How to properly treat v
 arious indirect restorative materials prior to insertion\n 	Decide on whic
 h insertion technique to use based on the type of restoration\n\n\n\nSpeak
 er:\n\nDr. Christopher Pescatore\, DMD\n\nDr. Christopher Pescatore\, DMD 
 is a national and international lecturer who has written articles for nume
 rous publications\, including Practical Periodontics and Aesthetic Dentist
 ry\, Profiles\, Dentistry Today\, Compendium\, Dental Economics\, and Insi
 de Dentistry to name a few. He lectures on state-of-the-art aesthetic proc
 edures\, CAD/CAM techniques\, and materials\, and holds a U.S. patent for 
 a non-metallic post system to restore endodontically-treated teeth. Dr. Pe
 scatore is a past member of the Board of Directors and the editorial team 
 member of the American Academy of Cosmetic Dentistry (AACD)\, former Clini
 cal Co-Director and former featured lecturer at the Las Vegas Institute fo
 r Advanced Dental Studies\, past instructor of the Advanced Aesthetic Prog
 ram at New York University - College of Dentistry\, the Aesthetic Continuu
 m at Baylor College of Dentistry\, and the Aesthetic Program at the Univer
 sity of Kentucky.\n\n\nDr. Pescatore also evaluates and assists in the dev
 elopment of products for several leading dental manufacturers and laborato
 ries\, and is on the editorial board of the prestigious publications REALI
 TY - the information source for cosmetic dentistry.\n\nDr. Pescatore is a 
 graduate of the University of Medicine and Dentistry of New Jersey - New J
 ersey Dental School. He maintains a full-time practice dedicated exclusive
 ly to aesthetic restorative dentistry in Danville\, California.
CATEGORIES:Continuing Education
END:VEVENT
BEGIN:VTIMEZONE
TZID:America/Los_Angeles
X-LIC-LOCATION:America/Los_Angeles
BEGIN:DAYLIGHT
DTSTART:20230312T030000
TZOFFSETFROM:-0800
TZOFFSETTO:-0700
TZNAME:PDT
END:DAYLIGHT
END:VTIMEZONE
END:VCALENDAR