BEGIN:VCALENDAR
VERSION:2.0
PRODID:-//wp-events-plugin.com//7.2.3.1//EN
TZID:America/Los_Angeles
X-WR-TIMEZONE:America/Los_Angeles
BEGIN:VEVENT
UID:137@posts.marindentalsociety.org
DTSTART;TZID=America/Los_Angeles:20250403T173000
DTEND;TZID=America/Los_Angeles:20250403T220000
DTSTAMP:20250408T214620Z
URL:https://posts.marindentalsociety.org/events/sae-2025/
SUMMARY:MCDS Staff Appreciation Event 2025
DESCRIPTION:Bring your Team / Guests\nEnjoy ~ Celebrate\nCamaraderie &amp\;
  Conversation\nPrizes!\n\nContinuing Education Credits (2 CE)\n\nSchedule:
 \n\n 	Doors open at 5:00 PM\n 	College of Marin RDA Student Table Clinics 
 5:30 PM\n 	Dinner 6:30 PM\n 	Keynote Speaker: Joy D. Hermsen\, MBA 7:30 PM
 \n 	Recognition + Awards 8:30 PM\n 	Music + Social 9:00 PM\n\n&nbsp\;\n\n&
 nbsp\;
ATTACH;FMTTYPE=image/jpeg:https://i0.wp.com/posts.marindentalsociety.org/w
 p-content/uploads/2025/02/Last-Call-Event-Page_Staff-Appreciation.png?fit=
 1545%2C2000&ssl=1
CATEGORIES:Continuing Education,General
LOCATION:Embassy Suites by Hilton\, San Rafael\, 101 McInnis Parkway\, San 
 Rafael\, CA\, 94903\, United States
X-APPLE-STRUCTURED-LOCATION;VALUE=URI;X-ADDRESS=101 McInnis Parkway\, San R
 afael\, CA\, 94903\, United States;X-APPLE-RADIUS=100;X-TITLE=Embassy Suit
 es by Hilton\, San Rafael:geo:0,0
END:VEVENT
BEGIN:VTIMEZONE
TZID:America/Los_Angeles
X-LIC-LOCATION:America/Los_Angeles
BEGIN:DAYLIGHT
DTSTART:20250309T030000
TZOFFSETFROM:-0800
TZOFFSETTO:-0700
TZNAME:PDT
END:DAYLIGHT
END:VTIMEZONE
END:VCALENDAR