BEGIN:VCALENDAR
VERSION:2.0
PRODID:-//wp-events-plugin.com//7.2.3.1//EN
TZID:America/Los_Angeles
X-WR-TIMEZONE:America/Los_Angeles
BEGIN:VEVENT
UID:70@posts.marindentalsociety.org
DTSTART;TZID=America/Los_Angeles:20230215T000000
DTEND;TZID=America/Los_Angeles:20230430T235900
DTSTAMP:20230503T045148Z
URL:https://posts.marindentalsociety.org/events/season-pass-6-pack-2023/
SUMMARY:Season Pass 6-Pack 2023
DESCRIPTION:The Season Pass returns! Attend any 6 regular Dinner/CE meeting
 s during the year\, save 9%\, combat inflation! Excludes special meetings 
 IC/CDPA\, OSHA\, HIPAA and CPR courses.\n\nPurchase your pass today!\n\nEm
 ail confirmation to follow with Coupon Code (please allow 7-10 business da
 ys). Once you receive code\, choose which meetings you want to attend - fo
 r each event choose "Member" registration and checkout using the code.\n\n
 No refunds given\, but if you find you are unable to attend a meeting you 
 already signed up for and want to attend a different meeting\, please noti
 fy staff and we will do our best to accommodate you.
CATEGORIES:Continuing Education
END:VEVENT
BEGIN:VTIMEZONE
TZID:America/Los_Angeles
X-LIC-LOCATION:America/Los_Angeles
BEGIN:STANDARD
DTSTART:20221106T010000
TZOFFSETFROM:-0700
TZOFFSETTO:-0800
TZNAME:PST
END:STANDARD
BEGIN:DAYLIGHT
DTSTART:20230312T030000
TZOFFSETFROM:-0800
TZOFFSETTO:-0700
TZNAME:PDT
END:DAYLIGHT
END:VTIMEZONE
END:VCALENDAR