BEGIN:VCALENDAR
VERSION:2.0
PRODID:-//wp-events-plugin.com//7.2.3.1//EN
TZID:America/Los_Angeles
X-WR-TIMEZONE:America/Los_Angeles
BEGIN:VEVENT
UID:113@posts.marindentalsociety.org
DTSTART;TZID=America/Los_Angeles:20240201T000000
DTEND;TZID=America/Los_Angeles:20241121T235900
DTSTAMP:20240203T071018Z
URL:https://posts.marindentalsociety.org/events/season-pass-6-pack-2024/
SUMMARY:Season Pass 6-Pack 2024 for CE / Dinner Meetings
DESCRIPTION:The Season Pass returns! Attend any 6 regular Dinner/CE meeting
 s during the year\, save 9%. Excludes special meetings IC/CDPA\, OSHA\, HI
 PAA and CPR courses.\n\nPurchase your pass today!\n\nEmail confirmation to
  follow with Coupon Code (please allow 7-10 business days). In your event 
 booking\, choose "Member" registration and checkout using the code (good f
 or all 6).\n\nNo refunds given\, but if you find you are unable to attend 
 a meeting you already signed up for and want to attend a different meeting
 \, please notify staff and we will do our best to accommodate you.
CATEGORIES:Continuing Education
LOCATION:McInnis Park Club Restaurant\, 350 Smith Ranch Road\, San Rafael\,
  California\, 94903\, Marin County\, United States
GEO:38.021814;-122.519899
X-APPLE-STRUCTURED-LOCATION;VALUE=URI;X-ADDRESS=350 Smith Ranch Road\, San 
 Rafael\, California\, 94903\, Marin County\, United States;X-APPLE-RADIUS=
 100;X-TITLE=McInnis Park Club Restaurant:geo:38.021814,-122.519899
END:VEVENT
BEGIN:VTIMEZONE
TZID:America/Los_Angeles
X-LIC-LOCATION:America/Los_Angeles
BEGIN:STANDARD
DTSTART:20231105T010000
TZOFFSETFROM:-0700
TZOFFSETTO:-0800
TZNAME:PST
END:STANDARD
BEGIN:DAYLIGHT
DTSTART:20240310T030000
TZOFFSETFROM:-0800
TZOFFSETTO:-0700
TZNAME:PDT
END:DAYLIGHT
BEGIN:STANDARD
DTSTART:20241103T010000
TZOFFSETFROM:-0700
TZOFFSETTO:-0800
TZNAME:PST
END:STANDARD
END:VTIMEZONE
END:VCALENDAR