BEGIN:VCALENDAR
VERSION:2.0
PRODID:-//wp-events-plugin.com//7.2.3.1//EN
TZID:America/Los_Angeles
X-WR-TIMEZONE:America/Los_Angeles
BEGIN:VEVENT
UID:134@posts.marindentalsociety.org
DTSTART;TZID=America/Los_Angeles:20241211T000000
DTEND;TZID=America/Los_Angeles:20251231T235900
DTSTAMP:20250208T025852Z
URL:https://posts.marindentalsociety.org/events/season-pass-6-pack-2025-fo
 r-regular-ce-meetings/
SUMMARY:Season Pass 6-Pack 2025 for Regular CE Meetings
DESCRIPTION:The 2025 Season Pass is now available!\nAttend the 6 regular CE
  / Dinner meetings during the year\, save ~9%. You will be automatically r
 egistered for all 6 meetings * CPR courses excluded\n\nPurchase your pass 
 today!\n\nNo refunds given\, but if you find you are unable to attend one 
 of the regular meetings you may:\n\n 	Apply your pass to a different event
  (e.g. Hands-On Workshop or Infection Control)\n 	Gift your spot to someon
 e else\n\nPlease notify staff and we will do our best to accommodate you a
 nd assist you with the changes.\n\nHere's to a great 2025!
CATEGORIES:Continuing Education
END:VEVENT
BEGIN:VTIMEZONE
TZID:America/Los_Angeles
X-LIC-LOCATION:America/Los_Angeles
BEGIN:STANDARD
DTSTART:20241103T010000
TZOFFSETFROM:-0700
TZOFFSETTO:-0800
TZNAME:PST
END:STANDARD
BEGIN:DAYLIGHT
DTSTART:20250309T030000
TZOFFSETFROM:-0800
TZOFFSETTO:-0700
TZNAME:PDT
END:DAYLIGHT
BEGIN:STANDARD
DTSTART:20251102T010000
TZOFFSETFROM:-0700
TZOFFSETTO:-0800
TZNAME:PST
END:STANDARD
END:VTIMEZONE
END:VCALENDAR