BEGIN:VCALENDAR
VERSION:2.0
PRODID:-//wp-events-plugin.com//7.2.3.1//EN
TZID:America/Los_Angeles
X-WR-TIMEZONE:America/Los_Angeles
BEGIN:VEVENT
UID:159@posts.marindentalsociety.org
DTSTART;TZID=America/Los_Angeles:20260316T000000
DTEND;TZID=America/Los_Angeles:20261231T235900
DTSTAMP:20260317T184310Z
URL:https://posts.marindentalsociety.org/events/season-pass-6-pack-for-reg
 ular-ce-meetings-2026/
SUMMARY:Season Pass 6-Pack for CE Meetings 2026
DESCRIPTION:The 2026 Season Pass is now available!\nGood for 5 regular CE /
  Dinner meetings &amp\; a $65 credit toward another CE course or Event (Wo
 rkshop\, Infection Control\, Staff Appreciation) Save ~9%! You will be aut
 omatically registered for all 5 meetings * CPR courses excluded. Contact s
 taff to receive your coupon code.\n\nPurchase your pass today! Click Here&
 gt\;&gt\;\n\nNo refunds given\, but if you find you are unable to attend o
 ne of the regular meetings you may:\n\n 	Apply your pass to a different ev
 ent (e.g. Hands-On Workshop\, Infection Control\, or Staff Appreciation)\n
  	Gift your spot to someone else\n\nPlease notify staff and we will do our
  best to accommodate you and assist you with the changes.\n\nHere's to a g
 reat 2026!
ATTACH;FMTTYPE=image/jpeg:https://i0.wp.com/posts.marindentalsociety.org/w
 p-content/uploads/2026/01/Season-Pass-2026_Edited.png?fit=591%2C1004&ssl=1
CATEGORIES:Continuing Education
LOCATION:McInnis Park Club Restaurant\, 350 Smith Ranch Road\, San Rafael\,
  California\, 94903\, Marin County\, United States
GEO:38.021814;-122.519899
X-APPLE-STRUCTURED-LOCATION;VALUE=URI;X-ADDRESS=350 Smith Ranch Road\, San 
 Rafael\, California\, 94903\, Marin County\, United States;X-APPLE-RADIUS=
 100;X-TITLE=McInnis Park Club Restaurant:geo:38.021814,-122.519899
END:VEVENT
BEGIN:VTIMEZONE
TZID:America/Los_Angeles
X-LIC-LOCATION:America/Los_Angeles
BEGIN:DAYLIGHT
DTSTART:20260308T030000
TZOFFSETFROM:-0800
TZOFFSETTO:-0700
TZNAME:PDT
END:DAYLIGHT
BEGIN:STANDARD
DTSTART:20261101T010000
TZOFFSETFROM:-0700
TZOFFSETTO:-0800
TZNAME:PST
END:STANDARD
END:VTIMEZONE
END:VCALENDAR