BEGIN:VCALENDAR
VERSION:2.0
PRODID:-//wp-events-plugin.com//7.2.3.1//EN
TZID:America/Los_Angeles
X-WR-TIMEZONE:America/Los_Angeles
BEGIN:VEVENT
UID:109@posts.marindentalsociety.org
DTSTART;TZID=America/Los_Angeles:20240912T183000
DTEND;TZID=America/Los_Angeles:20240912T203000
DTSTAMP:20240202T055136Z
URL:https://posts.marindentalsociety.org/events/sept-bls-cpr-renewal/
SUMMARY:September BLS / CPR Renewal
DESCRIPTION:Register Here for Thursday\, September 12\, 2024\n\nEarn: CPR C
 ertificate + 2 CEs\n\nUse code: MCDS when checking out for your $10 memb
 er discount. Here is the full schedule with a drop down menu of all loca
 tions available.
ATTACH;FMTTYPE=image/jpeg:https://i0.wp.com/posts.marindentalsociety.org/w
 p-content/uploads/2021/12/2020-bls.jpg?fit=424%2C560&ssl=1
CATEGORIES:All BLS / CPR Courses,Continuing Education
LOCATION:Marin County Dental Society - Muir Conference Room\, 175 N Redwood
  Dr Ste. 130\, San Rafael\, California\, 94903\, Marin County\, United Sta
 tes
GEO:38.023681;-122.536604
X-APPLE-STRUCTURED-LOCATION;VALUE=URI;X-ADDRESS=175 N Redwood Dr Ste. 130\,
  San Rafael\, California\, 94903\, Marin County\, United States;X-APPLE-RA
 DIUS=100;X-TITLE=Marin County Dental Society - Muir Conference Room:geo:38
 .023681,-122.536604
END:VEVENT
BEGIN:VTIMEZONE
TZID:America/Los_Angeles
X-LIC-LOCATION:America/Los_Angeles
BEGIN:DAYLIGHT
DTSTART:20240310T030000
TZOFFSETFROM:-0800
TZOFFSETTO:-0700
TZNAME:PDT
END:DAYLIGHT
END:VTIMEZONE
END:VCALENDAR