BEGIN:VCALENDAR
VERSION:2.0
PRODID:-//wp-events-plugin.com//7.2.3.1//EN
TZID:America/Los_Angeles
X-WR-TIMEZONE:America/Los_Angeles
BEGIN:VEVENT
UID:52@posts.marindentalsociety.org
DTSTART;TZID=America/Los_Angeles:20230914T183000
DTEND;TZID=America/Los_Angeles:20230914T203000
DTSTAMP:20230201T032537Z
URL:https://posts.marindentalsociety.org/events/september-bls-cpr-renewal-
 2/
SUMMARY:September BLS / CPR Renewal
DESCRIPTION:Register here&gt\;&gt\; for September 14th course\n\nEnter code
 : MCDS at checkout for $10 Marin County Dental Society member/staff discou
 nt
ATTACH;FMTTYPE=image/jpeg:https://i0.wp.com/posts.marindentalsociety.org/w
 p-content/uploads/2023/01/blsbook.jpg?fit=210%2C271&ssl=1
CATEGORIES:All BLS / CPR Courses,Continuing Education
LOCATION:Marin County Dental Society - Muir Conference Room\, 175 N. Redwoo
 d Dr. \, San Rafael\, CA\, 94903\, United States
X-APPLE-STRUCTURED-LOCATION;VALUE=URI;X-ADDRESS=175 N. Redwood Dr. \, San R
 afael\, CA\, 94903\, United States;X-APPLE-RADIUS=100;X-TITLE=Marin County
  Dental Society - Muir Conference Room:geo:0,0
END:VEVENT
BEGIN:VTIMEZONE
TZID:America/Los_Angeles
X-LIC-LOCATION:America/Los_Angeles
BEGIN:DAYLIGHT
DTSTART:20230312T030000
TZOFFSETFROM:-0800
TZOFFSETTO:-0700
TZNAME:PDT
END:DAYLIGHT
END:VTIMEZONE
END:VCALENDAR