BEGIN:VCALENDAR
VERSION:2.0
PRODID:-//wp-events-plugin.com//7.2.3.1//EN
TZID:America/Los_Angeles
X-WR-TIMEZONE:America/Los_Angeles
BEGIN:VEVENT
UID:141@posts.marindentalsociety.org
DTSTART;TZID=America/Los_Angeles:20251004T110000
DTEND;TZID=America/Los_Angeles:20251004T130000
DTSTAMP:20250701T024208Z
URL:https://posts.marindentalsociety.org/events/shred-a-thon-taco-bar-2025
 /
SUMMARY:Shred-A-Thon + Taco Bar!
DESCRIPTION:Mark your calendar for MCDS's annual Shred-A-Thon complete with
  Taco Bar! Hosted in the MCDS parking lot. Please pre-register - it's free
  for members! Donations to the Marin County Dental Care Foundation are gre
 atly appreciated should you like to contribute.\n\n 	X-rays\, plastic fold
 ers are OK if separated from paper files (locked in box and shredded offsi
 te)\n 	Paperclips/staples OK in files\n 	2-hole punch folders with metal O
 K\n 	No limit - we shred from 11am until 1pm or until truck is full - cont
 act staff to inquire with questions: exec@marindentalsociety.org or 415-47
 2-7974\n 	Register for Shred or Tacos or Both!\n 	Non-members $50 per regi
 stration\n\nPlease register only one space per person (this is not per box
 !)\n\nCertificate of Destruction available upon request
ATTACH;FMTTYPE=image/jpeg:https://i0.wp.com/posts.marindentalsociety.org/w
 p-content/uploads/2025/06/Shred_Tacos_2025-10-04.png?fit=1654%2C1654&ssl=1
CATEGORIES:General
LOCATION:Marin County Dental Society Parking Lot\, 175 N. Redwood Dr.\, San
  Rafael\, United States
X-APPLE-STRUCTURED-LOCATION;VALUE=URI;X-ADDRESS=175 N. Redwood Dr.\, San Ra
 fael\, United States;X-APPLE-RADIUS=100;X-TITLE=Marin County Dental Societ
 y Parking Lot:geo:0,0
END:VEVENT
BEGIN:VTIMEZONE
TZID:America/Los_Angeles
X-LIC-LOCATION:America/Los_Angeles
BEGIN:DAYLIGHT
DTSTART:20250309T030000
TZOFFSETFROM:-0800
TZOFFSETTO:-0700
TZNAME:PDT
END:DAYLIGHT
END:VTIMEZONE
END:VCALENDAR