BEGIN:VCALENDAR
VERSION:2.0
PRODID:-//wp-events-plugin.com//7.2.3.1//EN
TZID:America/Los_Angeles
X-WR-TIMEZONE:America/Los_Angeles
BEGIN:VEVENT
UID:170@posts.marindentalsociety.org
DTSTART;TZID=America/Los_Angeles:20261003T110000
DTEND;TZID=America/Los_Angeles:20261003T130000
DTSTAMP:20260424T012226Z
URL:https://posts.marindentalsociety.org/events/shred-a-thon-taco-bar-2026
 /
SUMMARY:Shred-A-Thon + Taco Bar!
DESCRIPTION:Mark your calendar and register for MCDS's annual Shred-A-Thon 
 complete with Taco Bar! Hosted in the MCDS parking lot.\n\nPlease pre-regi
 ster - it's free for members! Donations to the Marin County Dental Care Fo
 undation are greatly appreciated should you like to contribute.\n\n 	X-ray
 s\, plastic folders are OK if separated from paper files (locked in box an
 d shredded offsite)\n 	Paperclips/staples OK in files\n 	2-hole punch fold
 ers with metal OK\n 	No limit - we shred from 11am until 1pm or until truc
 k is full - contact staff to inquire with questions: exec@marindentalsocie
 ty.org or 415-472-7974\n 	Register for Shred or Tacos or Both!\n 	Non-memb
 ers $50 per registration\n\nTaco Bar will be open at 11:00am.\n\nPlease re
 gister only one space per person (this is not per box!)\n\nCertificate of 
 Destruction available upon request
CATEGORIES:General
LOCATION:Marin County Dental Society Parking Lot\, 175 N. Redwood Dr.\, San
  Rafael\, United States
X-APPLE-STRUCTURED-LOCATION;VALUE=URI;X-ADDRESS=175 N. Redwood Dr.\, San Ra
 fael\, United States;X-APPLE-RADIUS=100;X-TITLE=Marin County Dental Societ
 y Parking Lot:geo:0,0
END:VEVENT
BEGIN:VTIMEZONE
TZID:America/Los_Angeles
X-LIC-LOCATION:America/Los_Angeles
BEGIN:DAYLIGHT
DTSTART:20260308T030000
TZOFFSETFROM:-0800
TZOFFSETTO:-0700
TZNAME:PDT
END:DAYLIGHT
END:VTIMEZONE
END:VCALENDAR