BEGIN:VCALENDAR
VERSION:2.0
PRODID:-//wp-events-plugin.com//7.2.3.1//EN
TZID:America/Los_Angeles
X-WR-TIMEZONE:America/Los_Angeles
BEGIN:VEVENT
UID:33@posts.marindentalsociety.org
DTSTART;TZID=America/Los_Angeles:20221008T110000
DTEND;TZID=America/Los_Angeles:20221008T130000
DTSTAMP:20220923T063014Z
URL:https://posts.marindentalsociety.org/events/shred-a-thon/
SUMMARY:Shred-A-Thon + Taco Fest!
DESCRIPTION:Announcing MCDS's annual Shred-A-Thon complete with Taco Bar! W
 e host this event in the MCDS parking lot. Please pre-register - it's free
  for members! Donations to the Marin County Dental Care Foundation are gre
 atly appreciated should you like to contribute.\n\n 	X-rays\, plastic fold
 ers\, 3 ring binders are OK if separated from paper files\n 	Paperclips/st
 aples OK in files\n 	Limit 10 boxes (or pre-arrangement. Availability base
 d on # participants - contact staff to inquire: exec@marindentalsociety.or
 g)\n 	Register for Shred or Tacos or Both!\n 	Non-members $50 per registra
 tion\n\nPlease register only one space per person (this is not per box!)\n
 \nProudly sponsored by:\n\n
ATTACH;FMTTYPE=image/jpeg:https://i0.wp.com/posts.marindentalsociety.org/w
 p-content/uploads/2022/04/Shred-Paper-Tacos-8.5-%C3%97-11-in-3-2.jpg?fit=1
 545%2C2000&ssl=1
CATEGORIES:General
END:VEVENT
BEGIN:VTIMEZONE
TZID:America/Los_Angeles
X-LIC-LOCATION:America/Los_Angeles
BEGIN:DAYLIGHT
DTSTART:20220313T030000
TZOFFSETFROM:-0800
TZOFFSETTO:-0700
TZNAME:PDT
END:DAYLIGHT
END:VTIMEZONE
END:VCALENDAR