BEGIN:VCALENDAR
VERSION:2.0
PRODID:-//wp-events-plugin.com//7.2.3.1//EN
TZID:America/Los_Angeles
X-WR-TIMEZONE:America/Los_Angeles
BEGIN:VEVENT
UID:31@posts.marindentalsociety.org
DTSTART;TZID=America/Los_Angeles:20220217T100000
DTEND;TZID=America/Los_Angeles:20220217T114500
DTSTAMP:20220209T072512Z
URL:https://posts.marindentalsociety.org/events/smile-marin-oral-health-fo
 rum/
SUMMARY:Smile Marin! Oral Health Forum
DESCRIPTION:Dental Care and Oral Healthcare for All\nA free forum from the 
 Marin County Oral Health Project &amp\; First 5 Marin\n\nThursday\, Februa
 ry 17th\n10 to 11:45am\nONLINE\n\nCheck out the flyer for more informati
 on.\nRegister Here&gt\;&gt\;\n\nImage: First 5 Marin Children and Families
  Commission
ATTACH;FMTTYPE=image/jpeg:https://i0.wp.com/posts.marindentalsociety.org/w
 p-content/uploads/2022/02/van-staffM-AA-girl-and-teeth.jpg?fit=800%2C536&s
 sl=1
CATEGORIES:General
LOCATION:https://events.r20.constantcontact.com/register/eventReg?oeidk=a07
 ej0jnnfw93729bf0&oseq=&c=&ch=
END:VEVENT
BEGIN:VTIMEZONE
TZID:America/Los_Angeles
X-LIC-LOCATION:America/Los_Angeles
BEGIN:STANDARD
DTSTART:20211107T010000
TZOFFSETFROM:-0700
TZOFFSETTO:-0800
TZNAME:PST
END:STANDARD
END:VTIMEZONE
END:VCALENDAR