BEGIN:VCALENDAR
VERSION:2.0
PRODID:-//wp-events-plugin.com//7.2.3.1//EN
TZID:America/Los_Angeles
X-WR-TIMEZONE:America/Los_Angeles
BEGIN:VEVENT
UID:71@posts.marindentalsociety.org
DTSTART;TZID=America/Los_Angeles:20230505T120000
DTEND;TZID=America/Los_Angeles:20230505T130000
DTSTAMP:20230503T052245Z
URL:https://posts.marindentalsociety.org/events/surviving-the-worldwide-cy
 ber-pandemic-webinar/
SUMMARY:Surviving the Worldwide Cyber Pandemic Webinar
DESCRIPTION:A cyber pandemic has the potential to cause widespread damage t
 o businesses and individuals all over the world\, every business is at ris
 k. In this webinar\, we will discuss how you can protect yourself from a c
 yber attack as well as what steps are needed in order to stay safe. Now is
  the time to prepare. Don't miss out on gaining a comprehensive understand
 ing of immediate measures you can take in protecting your clients' private
  information.\n\nIronTech specializes in cybersecurity for dentists and ha
 ve presented hundreds of cybersecurity continuing education webinars for a
 ssociations!\n\nSpeaker:\n\nTom Kirkham\, IronTech Security\n\nTom Kirkham
 \, founder and CEO of IronTech Security provides cybersecurity defense sys
 tems and focuses on educating and encouraging organizations to establish a
  security-first environment with cybersecurity training programs for all w
 orkers to prevent successful attacks. Kirkham brings more than three decad
 es of software design\, network administration\, computer security\, and c
 ybersecurity knowledge to organizations around the country. Tom is a 2x Am
 azon Best Seller\, and his new book is titled: Hack the Rich - A Cyber
 security Parable.
CATEGORIES:Continuing Education
END:VEVENT
BEGIN:VTIMEZONE
TZID:America/Los_Angeles
X-LIC-LOCATION:America/Los_Angeles
BEGIN:DAYLIGHT
DTSTART:20230312T030000
TZOFFSETFROM:-0800
TZOFFSETTO:-0700
TZNAME:PDT
END:DAYLIGHT
END:VTIMEZONE
END:VCALENDAR