BEGIN:VCALENDAR
VERSION:2.0
PRODID:-//wp-events-plugin.com//7.2.3.1//EN
TZID:America/Los_Angeles
X-WR-TIMEZONE:America/Los_Angeles
BEGIN:VEVENT
UID:77@posts.marindentalsociety.org
DTSTART;TZID=America/Los_Angeles:20230615T180000
DTEND;TZID=America/Los_Angeles:20230615T200000
DTSTAMP:20230602T080450Z
URL:https://posts.marindentalsociety.org/events/the-hygienist-circle-dents
 ply-sirona-network-presents-biofilm-beware/
SUMMARY:Biofilm Beware for Hygienists - Presented by "The Hygienist Circle"
  Dentsply Sirona Academy
DESCRIPTION:Biofilm Beware with Katrina Sanders\n\nLooking to get more out 
 of Ultrasonic Scaling?\n\n&nbsp\;\n\nCourse Description:\nElevate your pra
 ctice with an evidence based approach to the contemporary use of ultrasoni
 c instrumentation across the spectrum of preventive and periodontal care t
 hat focuses on biofilm removal and disruption for the reduction of inflamm
 ation. Embrace all the benefits of ultrasonic technology AND the importanc
 e of appropriate insert tip selection and sequencing.\n\nComplimentary. Ex
 clusively for Hygienists. 1 CE Credit\n\nRegister Here&gt\;&gt\;\n\nCheck 
 out the flyer here: Prev Hygiene Circle Novato CA June 15 2023 Sanders
CATEGORIES:Continuing Education,General
LOCATION:The Key Room\, 1385 H. Hamilton Pkwy\, Novato\, CA\, 94949\, Unite
 d States
X-APPLE-STRUCTURED-LOCATION;VALUE=URI;X-ADDRESS=1385 H. Hamilton Pkwy\, Nov
 ato\, CA\, 94949\, United States;X-APPLE-RADIUS=100;X-TITLE=The Key Room:g
 eo:0,0
END:VEVENT
BEGIN:VTIMEZONE
TZID:America/Los_Angeles
X-LIC-LOCATION:America/Los_Angeles
BEGIN:DAYLIGHT
DTSTART:20230312T030000
TZOFFSETFROM:-0800
TZOFFSETTO:-0700
TZNAME:PDT
END:DAYLIGHT
END:VTIMEZONE
END:VCALENDAR