BEGIN:VCALENDAR
VERSION:2.0
PRODID:-//wp-events-plugin.com//7.2.3.1//EN
TZID:America/Los_Angeles
X-WR-TIMEZONE:America/Los_Angeles
BEGIN:VEVENT
UID:83@posts.marindentalsociety.org
DTSTART;TZID=America/Los_Angeles:20230623T000000
DTEND;TZID=America/Los_Angeles:20230623T000000
DTSTAMP:20230616T235418Z
URL:https://posts.marindentalsociety.org/events/upcoming-events-flyer/
SUMMARY:Upcoming Events Flyer
DESCRIPTION:Q3 Q4 MCDS Upcoming CE Events Flyer
ATTACH;FMTTYPE=image/jpeg:https://i0.wp.com/posts.marindentalsociety.org/w
 p-content/uploads/2023/06/Q34-MCDS-Upcoming-CE-Events-Flyer-5.5-%C3%97-8.5
 -in-scaled.jpg?fit=1656%2C2560&ssl=1
CATEGORIES:Continuing Education
END:VEVENT
BEGIN:VTIMEZONE
TZID:America/Los_Angeles
X-LIC-LOCATION:America/Los_Angeles
BEGIN:DAYLIGHT
DTSTART:20230312T030000
TZOFFSETFROM:-0800
TZOFFSETTO:-0700
TZNAME:PDT
END:DAYLIGHT
END:VTIMEZONE
END:VCALENDAR