BEGIN:VCALENDAR
VERSION:2.0
PRODID:-//wp-events-plugin.com//7.2.3.1//EN
TZID:America/Los_Angeles
X-WR-TIMEZONE:America/Los_Angeles
BEGIN:VEVENT
UID:28@posts.marindentalsociety.org
DTSTART;TZID=America/Los_Angeles:20220315T173000
DTEND;TZID=America/Los_Angeles:20220315T210000
DTSTAMP:20220312T024413Z
URL:https://posts.marindentalsociety.org/events/update-on-childrens-health
 -in-marin/
SUMMARY:Dinner/CE Meeting - Update on Children's Health in Marin
DESCRIPTION:Speakers:\n\n\n\nBahar Amanzadeh\, DDS\, MPH Dental Public Hea
 lth Consultant: Overview of oral\nhealth data for children in Marin\n\n 	A
 ccess-to-care challenges for young children\n 	Public health aspects of pe
 diatric dentistry\n 	Impacts of COVID-19 pandemic and the need for increas
 ed prevention and access\n\n&nbsp\;\n\n\n\nNelson Branco\, MD Private Prac
 tice Pediatrician: Pediatricians and Oral Health\n\n 	Role of a pediatrici
 an in children’s oral health\n 	Ways to complement and coordinate care b
 etween physicians and dentists\n 	Current health challenges observed among
  Marin’s children\n\n&nbsp\;\n\n\n\nGila C. Dorostkar\, DDS Private Prac
 tice Pediatric Dentist: Current topics in pediatric\ndentistry\n\n 	Caries
  risk assessment in a Marin private practice\n 	Recent developments in ped
 iatric guidelines and policies\n 	Update on new materials and techniques\n
 \nCourse:\n\nDental caries is the single most common chronic childhood dis
 ease in the USA. Coordinating care\nbetween dentists and physicians and st
 aying current with new developments in pediatric dental care\nwill result 
 in optimum outcomes for our children here in Marin.\n\n 	Learn about the s
 tatus of children’s oral health in Marin County and other common health 
 challenges they may be experiencing.\n 	Discuss the need and challenges in
  treating underserved populations\, the impact of COVID-19 in widening the
  inequalities gap and ways to improve access and prevention\n 	Discuss way
 s to effectively collaborate with pediatricians on improving children’s 
 oral health and how to coordinate referrals for dental care in Marin Count
 y\n 	Learn about new materials and techniques in pediatric dentistry inclu
 ding silver diamine fluoride\n 	Review the protocols on risk management as
 sessment and the current emphasis on preventive strategies and conservativ
 e treatment\n 	Understand the highlights of the development of current saf
 ety policies and guidelines\, particularly for pediatric oral sedation\n\n
 Table Clinic 5:30-6:30pm: 1 CEU\n\nCourse 7:00-9:00pm: 2 CEUs\n\nIf you ar
 e registering more than one member or staff\, please add their name/s in t
 he Additional Registrants bar.\n\nWe are back to a buffet style dinner at 
 McInnis - if you have a concern about this\, please email staff and we can
  make accommodations for you - exec@marindentalsociety.org
CATEGORIES:Continuing Education
LOCATION:McInnis Park Club Restaurant\, 350 Smith Ranch Road\, San Rafael\,
  California\, 94903\, Marin County\, United States
GEO:38.021814;-122.519899
X-APPLE-STRUCTURED-LOCATION;VALUE=URI;X-ADDRESS=350 Smith Ranch Road\, San 
 Rafael\, California\, 94903\, Marin County\, United States;X-APPLE-RADIUS=
 100;X-TITLE=McInnis Park Club Restaurant:geo:38.021814,-122.519899
END:VEVENT
BEGIN:VTIMEZONE
TZID:America/Los_Angeles
X-LIC-LOCATION:America/Los_Angeles
BEGIN:DAYLIGHT
DTSTART:20220313T030000
TZOFFSETFROM:-0800
TZOFFSETTO:-0700
TZNAME:PDT
END:DAYLIGHT
END:VTIMEZONE
END:VCALENDAR