BEGIN:VCALENDAR
VERSION:2.0
PRODID:-//wp-events-plugin.com//7.2.3.1//EN
TZID:America/Los_Angeles
X-WR-TIMEZONE:America/Los_Angeles
BEGIN:VEVENT
UID:100@posts.marindentalsociety.org
DTSTART;TZID=America/Los_Angeles:20240118T190000
DTEND;TZID=America/Los_Angeles:20240118T193000
DTSTAMP:20231215T054843Z
URL:https://posts.marindentalsociety.org/events/virtual-board-of-directors
 -installation-2024-general-membership-meeting/
SUMMARY:Virtual Board of Directors Installation 2024 + General Membership M
 eeting
DESCRIPTION:Please join the Society in welcoming our 2024 Board of Director
 s on Thursday\, January 18th\, 7pm via Zoom\n\nYou are invited to a Zoom m
 eeting.\nWhen: Jan 18\, 2024 07:00 PM Pacific Time (US and Canada)\n\nRegi
 ster in advance for this meeting:\nhttps://us06web.zoom.us/meeting/registe
 r/tZUof-qsrD8uE9D--H-I8kU9DxICRhoi0Uyb\n\nAfter registering\, you will rec
 eive a confirmation email containing information about joining the meeting
 .\n\n&nbsp\;
CATEGORIES:General
END:VEVENT
BEGIN:VTIMEZONE
TZID:America/Los_Angeles
X-LIC-LOCATION:America/Los_Angeles
BEGIN:STANDARD
DTSTART:20231105T010000
TZOFFSETFROM:-0700
TZOFFSETTO:-0800
TZNAME:PST
END:STANDARD
END:VTIMEZONE
END:VCALENDAR