BEGIN:VCALENDAR
VERSION:2.0
PRODID:-//wp-events-plugin.com//7.2.3.1//EN
TZID:America/Los_Angeles
X-WR-TIMEZONE:America/Los_Angeles
BEGIN:VEVENT
UID:32@posts.marindentalsociety.org
DTSTART;TZID=America/Los_Angeles:20220311T000000
DTEND;TZID=America/Los_Angeles:20220531T000000
DTSTAMP:20220312T034245Z
URL:https://posts.marindentalsociety.org/events/vitalant-virtual-blood-dri
 ve/
SUMMARY:Vitalant Virtual Blood Drive
DESCRIPTION:There is currently a nationwide shortage of available blood sup
 ply and we aim to help by improving the blood supply in our community and 
 through our contacts in other communities. Please consider joining MCDS fo
 r our Virtual Blood Drive\, at your convenience\, now through May 31!\n\nV
 irtual blood drives connect donors across geographies through online recru
 itment efforts\, allowing friends\, family and co-workers to participate i
 n the blood drive at any Vitalant donation center or mobile blood drive na
 tionwide.\n\nThis is our MCDS unique link to sign up/pledge to donate: htt
 ps://northeast.vitalant.org/LP=28?drive_code=3183810&amp\;division=WEST®i
 on=SFO\n\nYou can share the link with friends\, colleagues\, family to par
 ticipate in our efforts.\n\nClick here to download the step-by-step guide:
  Virtual Blood Drive Flyer 2022\n\nThank you!
ATTACH;FMTTYPE=image/jpeg:https://posts.marindentalsociety.org/wp-content/
 uploads/2022/03/Virtual-Blood-Drive-Flyer-2022-2-pdf.jpg
CATEGORIES:General
LOCATION:https://northeast.vitalant.org/LP=28?drive_code=3183810&division=W
 EST®ion=SFO
END:VEVENT
BEGIN:VTIMEZONE
TZID:America/Los_Angeles
X-LIC-LOCATION:America/Los_Angeles
BEGIN:STANDARD
DTSTART:20211107T010000
TZOFFSETFROM:-0700
TZOFFSETTO:-0800
TZNAME:PST
END:STANDARD
BEGIN:DAYLIGHT
DTSTART:20220313T030000
TZOFFSETFROM:-0800
TZOFFSETTO:-0700
TZNAME:PDT
END:DAYLIGHT
END:VTIMEZONE
END:VCALENDAR