BEGIN:VCALENDAR
VERSION:2.0
PRODID:-//wp-events-plugin.com//7.2.3.1//EN
TZID:America/Los_Angeles
X-WR-TIMEZONE:America/Los_Angeles
BEGIN:VEVENT
UID:101@posts.marindentalsociety.org
DTSTART;TZID=America/Los_Angeles:20240321T180000
DTEND;TZID=America/Los_Angeles:20240321T210000
DTSTAMP:20240313T073548Z
URL:https://posts.marindentalsociety.org/events/wellness-forum/
SUMMARY:CE / Dinner Meeting: Health + Wellness for the Dentist\, Staff...an
 d Beyond
DESCRIPTION:Speaker:\n\nDr. Aparna Subramanian\, DDS\, Prosthodontist\n\n\n
 \nAs dentists and dental team members\, we work very hard to take care of 
 our patients every day. This puts a lot of stress on our bodies and minds.
  In this lecture\, we will outline the main causes of inflammation\, ways 
 to reduce inflammation through diet\, dietary supplements\, exercise and 
 stretching. We will also explore intermittent fasting and fasting as a way
  to reduce inflammation.\n\nMental health is a big part of being healthy. 
 We will explore using breathing\, yoga and meditation as tools to improve 
 mental health. Hopefully this lecture will give everyone something to take
  home and incorporate into their everyday lives to live a happy\, healthy 
 life.\n\nTable Clinic 6:00pm: 1 CEU\n\nCourse 7:00-9:00pm: 2 CEUs\n\nIf yo
 u are registering more than one member or staff\, please add their name/s 
 in the Additional Registrants bar.\n\nWe are back to a buffet style dinner
  at McInnis - if you have any concern about this\, please email staff and 
 we can make accommodations for you - exec@marindentalsociety.org
CATEGORIES:Continuing Education
LOCATION:McInnis Park Club Restaurant\, 350 Smith Ranch Road\, San Rafael\,
  California\, 94903\, Marin County\, United States
GEO:38.021814;-122.519899
X-APPLE-STRUCTURED-LOCATION;VALUE=URI;X-ADDRESS=350 Smith Ranch Road\, San 
 Rafael\, California\, 94903\, Marin County\, United States;X-APPLE-RADIUS=
 100;X-TITLE=McInnis Park Club Restaurant:geo:38.021814,-122.519899
END:VEVENT
BEGIN:VTIMEZONE
TZID:America/Los_Angeles
X-LIC-LOCATION:America/Los_Angeles
BEGIN:DAYLIGHT
DTSTART:20240310T030000
TZOFFSETFROM:-0800
TZOFFSETTO:-0700
TZNAME:PDT
END:DAYLIGHT
END:VTIMEZONE
END:VCALENDAR