BEGIN:VCALENDAR
VERSION:2.0
PRODID:-//wp-events-plugin.com//7.2.3.1//EN
TZID:America/Los_Angeles
X-WR-TIMEZONE:America/Los_Angeles
BEGIN:VEVENT
UID:56@posts.marindentalsociety.org
DTSTART;TZID=America/Los_Angeles:20230207T180000
DTEND;TZID=America/Los_Angeles:20230207T200000
DTSTAMP:20230203T085919Z
URL:https://posts.marindentalsociety.org/events/what-the-tech-internet-hyg
 iene-cybersecurity/
SUMMARY:What the Tech? Internet Hygiene & Cybersecurity - Virtual Course
DESCRIPTION:In collaboration\, the Redwood Empire Dental Society &amp\; the
  Marin County Dental Society present: "What the Tech? Internet Hygiene &am
 p\; Cybersecurity"\, a virtual learning course.\n\nCourse: \n\nTechnology
  is great! It can help you communicate at a faster pace\, capture moments 
 in time with a simple click\, or even make dinner show up on your doorstep
  without you leaving the house! But what happens when that same technology
  turns against you? One click on the wrong thing can mean catastrophic dat
 a loss or total loss of business. In today’s cyber climate\, proactive d
 ata security is a must! Let’s break down the “geek speak” of technol
 ogy to provide a better understanding of how it works and the current stan
 dard of care for ensuring predictable failures instead of costly disasters
 .\nAbout Our Speaker\n\n\nAmy Wood | Copper Penny Consulting\nis a best se
 lling Author\, Speaker\, Consultant\, and Coach. She has a background in H
 ealthcare Information Technology and has spent the last decade as a HIPAA 
 Educator\, Risk Assessor\, and Data Breach Consultant. Amy’s clients ran
 ge from small practices to large organizations and all have benefited from
  her white-glove approach to security. Amy will not only help you if you a
 re the victim of a data breach\, but she will also educate you and your te
 am on how to prevent those costly mistakes! Out of hundreds of Data Breach
  investigations\, her clients have had ZERO patient lawsuits and have paid
  ZERO fines.With her many certifications she has obtained\, Amy could work
  for the Department of Defense or any hospital in the country\, but she ch
 ooses to work in DENTAL because it is an underserved market that needs hel
 p. Between owning a business with her husband\, having 3 redheaded opinion
 ated daughters\, and dealing with many natural disasters in her home of Sa
 nta Rosa\, Amy knows a thing or two about preventing disasters. Or\, at le
 ast predicting what could go wrong to minimize the destruction.\n\nCost: $
 65 Members/Staff (REDS\, MCDS\, MCDAS) | $200 CDA Members (Other Component
 s) | $250 Non-CDA Dentists\n\n\nRegister here&gt\;&gt\;
ATTACH;FMTTYPE=image/jpeg:https://i0.wp.com/posts.marindentalsociety.org/w
 p-content/uploads/2023/01/What-the-Tech_Flyer.png?fit=1080%2C1080&ssl=1
CATEGORIES:Continuing Education
END:VEVENT
BEGIN:VTIMEZONE
TZID:America/Los_Angeles
X-LIC-LOCATION:America/Los_Angeles
BEGIN:STANDARD
DTSTART:20221106T010000
TZOFFSETFROM:-0700
TZOFFSETTO:-0800
TZNAME:PST
END:STANDARD
END:VTIMEZONE
END:VCALENDAR